BEGIN:VCALENDAR
VERSION:2.0
PRODID:-//Repair-Caf&eacute;&nbsp; Nordbahngemeinden - ECPv6.15.20//NONSGML v1.0//EN
CALSCALE:GREGORIAN
METHOD:PUBLISH
X-ORIGINAL-URL:https://repaircafe-nordbahn.de
X-WR-CALDESC:Veranstaltungen für Repair-Caf&eacute;&nbsp; Nordbahngemeinden
REFRESH-INTERVAL;VALUE=DURATION:PT1H
X-Robots-Tag:noindex
X-PUBLISHED-TTL:PT1H
BEGIN:VTIMEZONE
TZID:Europe/Berlin
BEGIN:DAYLIGHT
TZOFFSETFROM:+0100
TZOFFSETTO:+0200
TZNAME:CEST
DTSTART:20230326T010000
END:DAYLIGHT
BEGIN:STANDARD
TZOFFSETFROM:+0200
TZOFFSETTO:+0100
TZNAME:CET
DTSTART:20231029T010000
END:STANDARD
BEGIN:DAYLIGHT
TZOFFSETFROM:+0100
TZOFFSETTO:+0200
TZNAME:CEST
DTSTART:20240331T010000
END:DAYLIGHT
BEGIN:STANDARD
TZOFFSETFROM:+0200
TZOFFSETTO:+0100
TZNAME:CET
DTSTART:20241027T010000
END:STANDARD
BEGIN:DAYLIGHT
TZOFFSETFROM:+0100
TZOFFSETTO:+0200
TZNAME:CEST
DTSTART:20250330T010000
END:DAYLIGHT
BEGIN:STANDARD
TZOFFSETFROM:+0200
TZOFFSETTO:+0100
TZNAME:CET
DTSTART:20251026T010000
END:STANDARD
BEGIN:DAYLIGHT
TZOFFSETFROM:+0100
TZOFFSETTO:+0200
TZNAME:CEST
DTSTART:20260329T010000
END:DAYLIGHT
BEGIN:STANDARD
TZOFFSETFROM:+0200
TZOFFSETTO:+0100
TZNAME:CET
DTSTART:20261025T010000
END:STANDARD
BEGIN:DAYLIGHT
TZOFFSETFROM:+0100
TZOFFSETTO:+0200
TZNAME:CEST
DTSTART:20270328T010000
END:DAYLIGHT
BEGIN:STANDARD
TZOFFSETFROM:+0200
TZOFFSETTO:+0100
TZNAME:CET
DTSTART:20271031T010000
END:STANDARD
END:VTIMEZONE
BEGIN:VEVENT
DTSTART;TZID=Europe/Berlin:20260411T100000
DTEND;TZID=Europe/Berlin:20260411T130000
DTSTAMP:20260423T182614
CREATED:20251016T081809Z
LAST-MODIFIED:20251016T081810Z
UID:656-1775901600-1775912400@repaircafe-nordbahn.de
SUMMARY:Das Repair-Café im April
DESCRIPTION:An diesem Termin reparieren wir wieder gemeinsam bei Kaffee und Kuchen technische Geräte und Fahrräder (elektrisch\, elektronisch\, mechanisch). \n\n\n\nGerne könnt ihr auch schon im Vorfeld mit uns über das Kontaktformular eine mögliche „Sonder-“ Reparatur anmelden oder besprechen- beispielweise wenn etwas genäht werden soll. \n\n\n\nEuer Repair-Café Team.
URL:https://repaircafe-nordbahn.de/event/das-repair-cafe-im-april/
LOCATION:Jugendclub C.O.R.N.\, Hauptstraße 112\, Birkenwerder\, 16547\, Germany
END:VEVENT
BEGIN:VEVENT
DTSTART;TZID=Europe/Berlin:20260314T100000
DTEND;TZID=Europe/Berlin:20260314T130000
DTSTAMP:20260423T182614
CREATED:20251016T081600Z
LAST-MODIFIED:20251016T081601Z
UID:654-1773482400-1773493200@repaircafe-nordbahn.de
SUMMARY:Das Repair-Café im März
DESCRIPTION:An diesem Termin reparieren wir wieder gemeinsam bei Kaffee und Kuchen technische Geräte und Fahrräder (elektrisch\, elektronisch\, mechanisch). \n\n\n\nGerne könnt ihr auch schon im Vorfeld mit uns über das Kontaktformular eine mögliche „Sonder-“ Reparatur anmelden oder besprechen- beispielweise wenn etwas genäht werden soll. \n\n\n\nEuer Repair-Café Team.
URL:https://repaircafe-nordbahn.de/event/das-repair-cafe-im-maerz-2/
LOCATION:Jugendclub C.O.R.N.\, Hauptstraße 112\, Birkenwerder\, 16547\, Germany
END:VEVENT
BEGIN:VEVENT
DTSTART;TZID=Europe/Berlin:20260214T100000
DTEND;TZID=Europe/Berlin:20260214T130000
DTSTAMP:20260423T182614
CREATED:20251016T081325Z
LAST-MODIFIED:20251016T081326Z
UID:652-1771063200-1771074000@repaircafe-nordbahn.de
SUMMARY:Das Repair-Café im Februar
DESCRIPTION:An diesem Termin reparieren wir wieder gemeinsam bei Kaffee und Kuchen technische Geräte und Fahrräder (elektrisch\, elektronisch\, mechanisch). \n\n\n\nGerne könnt ihr auch schon im Vorfeld mit uns über das Kontaktformular eine mögliche „Sonder-“ Reparatur anmelden oder besprechen- beispielweise wenn etwas genäht werden soll. \n\n\n\nEuer Repair-Café Team.
URL:https://repaircafe-nordbahn.de/event/das-repair-cafe-im-februar-2/
LOCATION:Jugendclub C.O.R.N.\, Hauptstraße 112\, Birkenwerder\, 16547\, Germany
END:VEVENT
BEGIN:VEVENT
DTSTART;TZID=Europe/Berlin:20260110T100000
DTEND;TZID=Europe/Berlin:20260110T130000
DTSTAMP:20260423T182614
CREATED:20251016T080409Z
LAST-MODIFIED:20251016T080410Z
UID:645-1768039200-1768050000@repaircafe-nordbahn.de
SUMMARY:Das Repair-Café im Januar
DESCRIPTION:An diesem Termin reparieren wir wieder gemeinsam bei Kaffee und Kuchen technische Geräte und Fahrräder (elektrisch\, elektronisch\, mechanisch). \n\n\n\nGerne könnt ihr auch schon im Vorfeld mit uns über das Kontaktformular eine mögliche „Sonder-“ Reparatur anmelden oder besprechen- beispielweise wenn etwas genäht werden soll. \n\n\n\nEuer Repair-Café Team.
URL:https://repaircafe-nordbahn.de/event/das-repair-cafe-im-januar/
LOCATION:Jugendclub C.O.R.N.\, Hauptstraße 112\, Birkenwerder\, 16547\, Germany
END:VEVENT
BEGIN:VEVENT
DTSTART;TZID=Europe/Berlin:20251213T100000
DTEND;TZID=Europe/Berlin:20251213T130000
DTSTAMP:20260423T182614
CREATED:20241218T123657Z
LAST-MODIFIED:20241218T123658Z
UID:482-1765620000-1765630800@repaircafe-nordbahn.de
SUMMARY:Das Repair-Café im Dezember
DESCRIPTION:An diesem Termin reparieren wir wieder gemeinsam bei Kaffee und Kuchen technische Geräte und Fahrräder (elektrisch\, elektronisch\, mechanisch). \n\n\n\nGerne könnt ihr auch schon im Vorfeld mit uns über das Kontaktformular eine mögliche „Sonder-“ Reparatur anmelden oder besprechen- beispielweise wenn etwas genäht werden soll. \n\n\n\nEuer Repair Café Team.
URL:https://repaircafe-nordbahn.de/event/das-repair-cafe-im-dezember/
LOCATION:Jugendclub C.O.R.N.\, Hauptstraße 112\, Birkenwerder\, 16547\, Germany
END:VEVENT
BEGIN:VEVENT
DTSTART;TZID=Europe/Berlin:20251108T100000
DTEND;TZID=Europe/Berlin:20251108T130000
DTSTAMP:20260423T182614
CREATED:20241218T123541Z
LAST-MODIFIED:20241218T123542Z
UID:480-1762596000-1762606800@repaircafe-nordbahn.de
SUMMARY:Das Repair-Café im November
DESCRIPTION:An diesem Termin reparieren wir wieder gemeinsam bei Kaffee und Kuchen technische Geräte und Fahrräder (elektrisch\, elektronisch\, mechanisch). \n\n\n\nGerne könnt ihr auch schon im Vorfeld mit uns über das Kontaktformular eine mögliche „Sonder-“ Reparatur anmelden oder besprechen- beispielweise wenn etwas genäht werden soll. \n\n\n\nEuer Repair-Café Team.
URL:https://repaircafe-nordbahn.de/event/das-repair-cafe-im-november/
LOCATION:Jugendclub C.O.R.N.\, Hauptstraße 112\, Birkenwerder\, 16547\, Germany
END:VEVENT
BEGIN:VEVENT
DTSTART;TZID=Europe/Berlin:20251011T100000
DTEND;TZID=Europe/Berlin:20251011T130000
DTSTAMP:20260423T182614
CREATED:20241218T123335Z
LAST-MODIFIED:20241218T123404Z
UID:477-1760176800-1760187600@repaircafe-nordbahn.de
SUMMARY:Das Repair-Café im Oktober
DESCRIPTION:An diesem Termin reparieren wir wieder gemeinsam bei Kaffee und Kuchen technische Geräte und Fahrräder (elektrisch\, elektronisch\, mechanisch). \n\n\n\nGerne könnt ihr auch schon im Vorfeld mit uns über das Kontaktformular eine mögliche „Sonder-“ Reparatur anmelden oder besprechen- beispielweise wenn etwas genäht werden soll. \n\n\n\nEuer Repair-Café Team.
URL:https://repaircafe-nordbahn.de/event/das-repair-cafe-im-oktober/
LOCATION:Jugendclub C.O.R.N.\, Hauptstraße 112\, Birkenwerder\, 16547\, Germany
END:VEVENT
BEGIN:VEVENT
DTSTART;TZID=Europe/Berlin:20250913T100000
DTEND;TZID=Europe/Berlin:20250913T130000
DTSTAMP:20260423T182614
CREATED:20241218T123209Z
LAST-MODIFIED:20241218T123210Z
UID:475-1757757600-1757768400@repaircafe-nordbahn.de
SUMMARY:Das Repair-Café im September
DESCRIPTION:An diesem Termin reparieren wir wieder gemeinsam bei Kaffee und Kuchen technische Geräte und Fahrräder (elektrisch\, elektronisch\, mechanisch). \n\n\n\nGerne könnt ihr auch schon im Vorfeld mit uns über das Kontaktformular eine mögliche „Sonder-“ Reparatur anmelden oder besprechen- beispielweise wenn etwas genäht werden soll. \n\n\n\nEuer Repair Café Team.
URL:https://repaircafe-nordbahn.de/event/das-repair-cafe-im-september/
LOCATION:Jugendclub C.O.R.N.\, Hauptstraße 112\, Birkenwerder\, 16547\, Germany
END:VEVENT
BEGIN:VEVENT
DTSTART;TZID=Europe/Berlin:20250712T100000
DTEND;TZID=Europe/Berlin:20250712T130000
DTSTAMP:20260423T182614
CREATED:20241218T122908Z
LAST-MODIFIED:20241218T122909Z
UID:473-1752314400-1752325200@repaircafe-nordbahn.de
SUMMARY:Das Repair-Café im Juli
DESCRIPTION:An diesem Termin reparieren wir wieder gemeinsam bei Kaffee und Kuchen technische Geräte und Fahrräder (elektrisch\, elektronisch\, mechanisch). \n\n\n\nGerne könnt ihr auch schon im Vorfeld mit uns über das Kontaktformular eine mögliche „Sonder-“ Reparatur anmelden oder besprechen- beispielweise wenn etwas genäht werden soll. \n\n\n\nEuer Repair-Café Team.
URL:https://repaircafe-nordbahn.de/event/das-repair-cafe-im-juli/
LOCATION:Jugendclub C.O.R.N.\, Hauptstraße 112\, Birkenwerder\, 16547\, Germany
END:VEVENT
BEGIN:VEVENT
DTSTART;TZID=Europe/Berlin:20250614T100000
DTEND;TZID=Europe/Berlin:20250614T130000
DTSTAMP:20260423T182614
CREATED:20241218T122401Z
LAST-MODIFIED:20241218T122454Z
UID:467-1749895200-1749906000@repaircafe-nordbahn.de
SUMMARY:Das Repair-Café im Juni
DESCRIPTION:An diesem Termin reparieren wir wieder gemeinsam bei Kaffee und Kuchen technische Geräte und Fahrräder (elektrisch\, elektronisch\, mechanisch). \n\n\n\nGerne könnt ihr auch schon im Vorfeld mit uns über das Kontaktformular eine mögliche „Sonder-“ Reparatur anmelden oder besprechen- beispielweise wenn etwas genäht werden soll. \n\n\n\nEuer Repair-Café Team.
URL:https://repaircafe-nordbahn.de/event/das-repair-cafe-im-juni/
LOCATION:Jugendclub C.O.R.N.\, Hauptstraße 112\, Birkenwerder\, 16547\, Germany
END:VEVENT
BEGIN:VEVENT
DTSTART;TZID=Europe/Berlin:20250510T100000
DTEND;TZID=Europe/Berlin:20250510T130000
DTSTAMP:20260423T182614
CREATED:20241218T114057Z
LAST-MODIFIED:20241218T122545Z
UID:447-1746871200-1746882000@repaircafe-nordbahn.de
SUMMARY:Das Repair-Café im Mai
DESCRIPTION:An diesem Termin reparieren wir wieder gemeinsam bei Kaffee und Kuchen technische Geräte und Fahrräder (elektrisch\, elektronisch\, mechanisch). \n\n\n\nGerne könnt ihr auch schon im Vorfeld mit uns über das Kontaktformular eine mögliche „Sonder-“ Reparatur anmelden oder besprechen- beispielweise wenn etwas genäht werden soll. Euer Repair Café Team.
URL:https://repaircafe-nordbahn.de/event/das-repair-cafe-im-mai/
LOCATION:Jugendclub C.O.R.N.\, Hauptstraße 112\, Birkenwerder\, 16547\, Germany
END:VEVENT
BEGIN:VEVENT
DTSTART;TZID=Europe/Berlin:20250412T100000
DTEND;TZID=Europe/Berlin:20250412T130000
DTSTAMP:20260423T182614
CREATED:20241217T151110Z
LAST-MODIFIED:20241218T114849Z
UID:378-1744452000-1744462800@repaircafe-nordbahn.de
SUMMARY:Das Repair-Café im April
DESCRIPTION:Und schon ist wieder April. Im Frühling gibt es bestimmt ordentlich etwas zu reparieren.An diesem Termin reparieren wir wieder gemeinsam bei Kaffee und Kuchen technische Geräte und Fahrräder (elektrisch\, elektronisch\, mechanisch). \n\n\n\nGerne könnt ihr auch schon im Vorfeld mit uns über das Kontaktformular eine mögliche „Sonder-“ Reparatur anmelden oder besprechen- beispielweise wenn etwas genäht werden soll. Euer Repair Café Team.
URL:https://repaircafe-nordbahn.de/event/april-april-repair-cafe-ist-geoeffnet/
LOCATION:Jugendclub C.O.R.N.\, Hauptstraße 112\, Birkenwerder\, 16547\, Germany
END:VEVENT
BEGIN:VEVENT
DTSTART;TZID=Europe/Berlin:20250308T100000
DTEND;TZID=Europe/Berlin:20250308T130000
DTSTAMP:20260423T182614
CREATED:20241218T124034Z
LAST-MODIFIED:20241218T124035Z
UID:486-1741428000-1741438800@repaircafe-nordbahn.de
SUMMARY:Das Repair-Café im März
DESCRIPTION:An diesem Termin reparieren wir wieder gemeinsam bei Kaffee und Kuchen technische Geräte und Fahrräder (elektrisch\, elektronisch\, mechanisch). \n\n\n\nGerne könnt ihr auch schon im Vorfeld mit uns über das Kontaktformular eine mögliche „Sonder-“ Reparatur anmelden oder besprechen- beispielweise wenn etwas genäht werden soll. \n\n\n\nEuer Repair-Café Team.
URL:https://repaircafe-nordbahn.de/event/das-repair-cafe-im-maerz/
LOCATION:Jugendclub C.O.R.N.\, Hauptstraße 112\, Birkenwerder\, 16547\, Germany
END:VEVENT
BEGIN:VEVENT
DTSTART;TZID=Europe/Berlin:20250208T100000
DTEND;TZID=Europe/Berlin:20250208T130000
DTSTAMP:20260423T182614
CREATED:20241218T123827Z
LAST-MODIFIED:20241218T123828Z
UID:484-1739008800-1739019600@repaircafe-nordbahn.de
SUMMARY:Das Repair-Café im Februar
DESCRIPTION:An diesem Termin reparieren wir wieder gemeinsam bei Kaffee und Kuchen technische Geräte und Fahrräder (elektrisch\, elektronisch\, mechanisch). \n\n\n\nGerne könnt ihr auch schon im Vorfeld mit uns über das Kontaktformular eine mögliche „Sonder-“ Reparatur anmelden oder besprechen- beispielweise wenn etwas genäht werden soll. \n\n\n\nEuer Repair-Café Team.
URL:https://repaircafe-nordbahn.de/event/das-repair-cafe-im-februar/
LOCATION:Jugendclub C.O.R.N.\, Hauptstraße 112\, Birkenwerder\, 16547\, Germany
END:VEVENT
BEGIN:VEVENT
DTSTART;TZID=Europe/Berlin:20250111T100000
DTEND;TZID=Europe/Berlin:20250111T130000
DTSTAMP:20260423T182614
CREATED:20241121T072650Z
LAST-MODIFIED:20241220T092421Z
UID:175-1736589600-1736600400@repaircafe-nordbahn.de
SUMMARY:Das Repair-Café im Januar
DESCRIPTION:Der Weihnachtsmann war bestimmt sehr fleißig und Ihr habt euch neue Vorsätze für 2025 gesetzt.An diesem Termin reparieren wir wieder gemeinsam bei Kaffee und Kuchen technische Geräte und Fahrräder (elektrisch\, elektronisch\, mechanisch). \nGerne könnt ihr auch schon im Vorfeld mit uns über das Kontaktformular eine mögliche „Sonder-“ Reparatur anmelden oder besprechen- beispielweise wenn etwas genäht werden soll. \nEuer Repair-Café Team. \n\n\n\nZugang über Wensickendorfer Weg
URL:https://repaircafe-nordbahn.de/event/das-repair-cafe-ist-geoeffnet-2/
LOCATION:Jugendclub C.O.R.N.\, Hauptstraße 112\, Birkenwerder\, 16547\, Germany
END:VEVENT
BEGIN:VEVENT
DTSTART;TZID=Europe/Berlin:20241214T100000
DTEND;TZID=Europe/Berlin:20241214T130000
DTSTAMP:20260423T182614
CREATED:20241115T124437Z
LAST-MODIFIED:20241218T120048Z
UID:59-1734170400-1734181200@repaircafe-nordbahn.de
SUMMARY:Das Weihnachts - Repair-Café ist geöffnet
DESCRIPTION:Es ist Adventszeit und Ihr habt bestimmt etwas weihnachtliches zu reparieren.
URL:https://repaircafe-nordbahn.de/event/das-repair-cafe-ist-geoeffnet/
LOCATION:Jugendclub C.O.R.N.\, Hauptstraße 112\, Birkenwerder\, 16547\, Germany
END:VEVENT
END:VCALENDAR