BEGIN:VCALENDAR
VERSION:2.0
PRODID:-//Repair-Caf&eacute;&nbsp; Nordbahngemeinden - ECPv6.15.20//NONSGML v1.0//EN
CALSCALE:GREGORIAN
METHOD:PUBLISH
X-ORIGINAL-URL:https://repaircafe-nordbahn.de
X-WR-CALDESC:Veranstaltungen für Repair-Caf&eacute;&nbsp; Nordbahngemeinden
REFRESH-INTERVAL;VALUE=DURATION:PT1H
X-Robots-Tag:noindex
X-PUBLISHED-TTL:PT1H
BEGIN:VTIMEZONE
TZID:Europe/Berlin
BEGIN:DAYLIGHT
TZOFFSETFROM:+0100
TZOFFSETTO:+0200
TZNAME:CEST
DTSTART:20250330T010000
END:DAYLIGHT
BEGIN:STANDARD
TZOFFSETFROM:+0200
TZOFFSETTO:+0100
TZNAME:CET
DTSTART:20251026T010000
END:STANDARD
BEGIN:DAYLIGHT
TZOFFSETFROM:+0100
TZOFFSETTO:+0200
TZNAME:CEST
DTSTART:20260329T010000
END:DAYLIGHT
BEGIN:STANDARD
TZOFFSETFROM:+0200
TZOFFSETTO:+0100
TZNAME:CET
DTSTART:20261025T010000
END:STANDARD
BEGIN:DAYLIGHT
TZOFFSETFROM:+0100
TZOFFSETTO:+0200
TZNAME:CEST
DTSTART:20270328T010000
END:DAYLIGHT
BEGIN:STANDARD
TZOFFSETFROM:+0200
TZOFFSETTO:+0100
TZNAME:CET
DTSTART:20271031T010000
END:STANDARD
END:VTIMEZONE
BEGIN:VEVENT
DTSTART;TZID=Europe/Berlin:20260711T100000
DTEND;TZID=Europe/Berlin:20260711T130000
DTSTAMP:20260425T154709
CREATED:20251016T082340Z
LAST-MODIFIED:20251016T082342Z
UID:662-1783764000-1783774800@repaircafe-nordbahn.de
SUMMARY:Das Repair-Café im Juli
DESCRIPTION:An diesem Termin reparieren wir wieder gemeinsam bei Kaffee und Kuchen technische Geräte und Fahrräder (elektrisch\, elektronisch\, mechanisch). \n\n\n\nGerne könnt ihr auch schon im Vorfeld mit uns über das Kontaktformular eine mögliche „Sonder-“ Reparatur anmelden oder besprechen- beispielweise wenn etwas genäht werden soll. \n\n\n\nEuer Repair-Café Team.
URL:https://repaircafe-nordbahn.de/event/das-repair-cafe-im-juli-2/
LOCATION:Jugendclub C.O.R.N.\, Hauptstraße 112\, Birkenwerder\, 16547\, Germany
END:VEVENT
END:VCALENDAR